BEGIN:VCALENDAR
VERSION:2.0
PRODID:-//De Vliegende Olifant - ECPv5.3.1.1//NONSGML v1.0//EN
CALSCALE:GREGORIAN
METHOD:PUBLISH
X-WR-CALNAME:De Vliegende Olifant
X-ORIGINAL-URL:https://devliegendeolifant.nl
X-WR-CALDESC:Evenementen voor De Vliegende Olifant
BEGIN:VTIMEZONE
TZID:Europe/Amsterdam
BEGIN:DAYLIGHT
TZOFFSETFROM:+0100
TZOFFSETTO:+0200
TZNAME:CEST
DTSTART:20250330T010000
END:DAYLIGHT
BEGIN:STANDARD
TZOFFSETFROM:+0200
TZOFFSETTO:+0100
TZNAME:CET
DTSTART:20251026T010000
END:STANDARD
END:VTIMEZONE
BEGIN:VEVENT
DTSTART;TZID=Europe/Amsterdam:20250221T130000
DTEND;TZID=Europe/Amsterdam:20250221T173000
DTSTAMP:20260425T215114
CREATED:20250126T205804Z
LAST-MODIFIED:20250126T210816Z
UID:7169-1740142800-1740159000@devliegendeolifant.nl
SUMMARY:Vrijdag 21 februari 2025  Workshop Ziel- en Familieopstellingen
DESCRIPTION:Van harte welkom bij de workshop Ziels & Familieopstelling op vrijdag 21 februari 2025 \n \n“Je persoonlijke kracht manifesteren is in feite staan voor wie je bent”  \n(Taira Seifaddini) \nOp deze middag met Ziel- en Familiepstellingen sta jij en jouw zielsmissie centraal.\nWe verdiepen je kijk op jezelf. Wie ben je vanuit zielsoogpunt. Sta je vol in je kracht of is er nog wat nodig?\nWat mag er verhelderen\, kan losgelaten of juist versterkt worden? \nEen dag vol manifestatietools aan de hand van individuele vragen. \n  \n(Afb: Jean Luc Bozzoli) \nHet doel: \n\nhet voelen van de resonantie met jouw energie\nde verbinding met je levensstroom verhelderen en versterken\nhet vertrouwen versterken dat je in staat bent om jouw gewenste toekomst te creëren.\n\nNa een korte inleiding met licht lichaamswerk en meditatie\, gaan we via ziel- en familieopstellingen op onderzoek uit. \nWil je steviger gebed worden in wie je in essentie bent en meer helderheid in jouw levenskoers ? Wil je helderheid verkrijgen over je werk/ je (a.s.)  bedrijf? En vind je het fijn om te werken met een relatief kleine groep (max 8 personen)? \nDoe dan mee en bestel hier je ticket .\nBijdrage: 105 euro incl btw/ koffie/thee/ biologisch lekkers of wil jij kijken of er een vergoeding mogelijk is via de zorgverzekeraar: neem dan contact op met Jeannette via info@fysiobowenpraktijkarnhem.nl \nDatum: vrijdag 21 februari 2025 \nTijd: 13.00 – 17.30 uur \nInloop vanaf 12.40 uur \nLeiding: Jeannette Uittenbogaard Systemisch Coach en fysio- bowentherapeut van Fysiobowenpraktijk Arnhem \nLocatie: De Vliegende Olifant. De Wetstraat 24 – 6814 AP Arnhem
URL:https://devliegendeolifant.nl/event/vrijdag-21-februari-2025-workshop-ziel-en-familieopstellingen/
LOCATION:De Vliegende Olifant\, De Wetstraat 24\, Arnhem\, 6814 AP\, Netherlands
ORGANIZER;CN="Jeannette%20Uittenbogaard":MAILTO:info@devliegendeolifant.nl
END:VEVENT
END:VCALENDAR