BEGIN:VCALENDAR
VERSION:2.0
PRODID:-//De Vliegende Olifant - ECPv5.3.1.1//NONSGML v1.0//EN
CALSCALE:GREGORIAN
METHOD:PUBLISH
X-WR-CALNAME:De Vliegende Olifant
X-ORIGINAL-URL:https://devliegendeolifant.nl
X-WR-CALDESC:Evenementen voor De Vliegende Olifant
BEGIN:VTIMEZONE
TZID:Europe/Amsterdam
BEGIN:DAYLIGHT
TZOFFSETFROM:+0100
TZOFFSETTO:+0200
TZNAME:CEST
DTSTART:20250330T010000
END:DAYLIGHT
BEGIN:STANDARD
TZOFFSETFROM:+0200
TZOFFSETTO:+0100
TZNAME:CET
DTSTART:20251026T010000
END:STANDARD
END:VTIMEZONE
BEGIN:VEVENT
DTSTART;TZID=Europe/Amsterdam:20250124T133000
DTEND;TZID=Europe/Amsterdam:20250124T173000
DTSTAMP:20260425T202805
CREATED:20241202T103615Z
LAST-MODIFIED:20250117T152101Z
UID:7124-1737725400-1737739800@devliegendeolifant.nl
SUMMARY:Vrijdag 24 januari: Ziels- en Familieopstellingen 'vier je intentie voor 2025'
DESCRIPTION:  \nVan harte welkom bij de workshop Ziels & Familieopstelling op vrijdag 24 januari 2025 \n“Je persoonlijke kracht manifesteren is in feite staan voor wie je bent’  \n(T. Seifaddini)  \n2025 is gestart.\nIn deze middag met Ziel- en Familiepstellingen zetten we de toon voor 2025. We halen als het ware de energie van de toekomst naar het huidige moment en vieren de kracht van de intentie.\nWat wil je creëren dit jaar? Wat wens je jezelf toe? Wat kan losgelaten of juist versterkt worden? Wat is er nodig? \nEen dag vol manifestatietools aan de hand van individuele vragen waarin bv ook ondernemersvragen meegenomen kunnen worden. \nHet doel:\n– het voelen van de resonantie met jouw energie\n– de verbinding met je levensstroom verhelderen en versterken\n– het vertrouwen versterken dat je in staat bent om jouw gewenste toekomst te creëren. \nNa een korte inleiding met licht lichaamswerk en meditatie\, gaan we via ziel- en familieopstellingen op onderzoek uit. \nWil je steviger gebed worden in wie je in essentie bent en meer helderheid in jouw levenskoers ? Wil je helderheid verkrijgen over je werk/ je (a.s.)  bedrijf? En vind je het fijn om te werken met een relatief kleine groep (max 8 personen)? \nDoe dan mee en bestel je ticket .\nBijdrage: 85 euro/ duoticket 150 euro  incl btw/ koffie/thee/ lekkers of neem contact op met Jeannette via info@fysiobowenpraktijkarnhem.nl \nDatum: vrijdag 24 januari 2025 \nTijd: 13.30 – 17.30 uur \nInloop vanaf 13.10 uur met thee/koffie en biologisch lekkers. \nLeiding: Jeannette Uittenbogaard Systemisch Coach en fysio- bowentherapeut van Fysiobowenpraktijk Arnhem \nLocatie: De Vliegende Olifant. De Wetstraat 24 – 6814 AP Arnhem \nTickets: de ticketshop of neem contact op met Jeannette via info@fysiobowenpraktijkarnhem.nl \n  \n.
URL:https://devliegendeolifant.nl/event/vrijdag-10-januari-ziels-en-familieopstellingen-het-vieren-van-je-intentie-voor-2025/
LOCATION:De Vliegende Olifant\, De Wetstraat 24\, Arnhem\, 6814 AP\, Netherlands
ORGANIZER;CN="Fysiobowenpraktijk%20Arnhem":MAILTO:info@fysiobowenpraktijkarnhem.nl
END:VEVENT
BEGIN:VEVENT
DTSTART;TZID=Europe/Amsterdam:20250124T200000
DTEND;TZID=Europe/Amsterdam:20250124T220000
DTSTAMP:20260425T202805
CREATED:20250112T203405Z
LAST-MODIFIED:20250112T203405Z
UID:7153-1737748800-1737756000@devliegendeolifant.nl
SUMMARY:Vrijdag 24 januari Filmavond: Down to Earth
DESCRIPTION:Hoewel deze filmavond eigenlijk een besloten avond is voor een groep geïnteresseerden\, zijn er nog een aantal plekken over om toch ook extern mensen uit te kunnen nodigen. \nWelkom dus op deze inmiddels klassieke en nog steeds zo inspirerende\, fascinerende documentaire/film/ lifestory DOWN TO EARTH (2015)  die in 2016 volle theaters trok. \n\n\n\nIn deze docu zie je het verslag van een Nederlands gezin dat buiten de gebaande paden ging om een nieuw perspectief op het leven te vinden. Door diegenen die een verbonden leven leiden\, een leven dat meer down to earth is.  Een reis die aanvankelijk 1 jaar bedoeld was\, werd 5 jaar.\n\n“We hebben de aarde niet geërfd van onze ouders\, we lenen het van onze kinderen”\n(Chief Seattle)\n\n\n\n\n\n\nDatum: vrijdag 24 januari\nTijd: 20.00 – 22.00 uur\nInloop: vanaf 19.40 uur met koffie /thee en lekkers\nIn de Vliegende Olifant\nEntree: 15\,00 euro voor de koffie/thee/lekkers en de verwarming. Graag contant te betalen bij binnenkomst.\nAanmelding: verplicht via info@devliegendeolifant.nl
URL:https://devliegendeolifant.nl/event/vrijdag-24-januari-filmavond-down-to-earth/
LOCATION:De Vliegende Olifant\, De Wetstraat 24\, Arnhem\, 6814 AP\, Netherlands
END:VEVENT
END:VCALENDAR