BEGIN:VCALENDAR
VERSION:2.0
PRODID:-//De Vliegende Olifant - ECPv5.3.1.1//NONSGML v1.0//EN
CALSCALE:GREGORIAN
METHOD:PUBLISH
X-WR-CALNAME:De Vliegende Olifant
X-ORIGINAL-URL:https://devliegendeolifant.nl
X-WR-CALDESC:Evenementen voor De Vliegende Olifant
BEGIN:VTIMEZONE
TZID:Europe/Amsterdam
BEGIN:DAYLIGHT
TZOFFSETFROM:+0100
TZOFFSETTO:+0200
TZNAME:CEST
DTSTART:20240331T010000
END:DAYLIGHT
BEGIN:STANDARD
TZOFFSETFROM:+0200
TZOFFSETTO:+0100
TZNAME:CET
DTSTART:20241027T010000
END:STANDARD
END:VTIMEZONE
BEGIN:VEVENT
DTSTART;TZID=Europe/Amsterdam:20241215T130000
DTEND;TZID=Europe/Amsterdam:20241215T173000
DTSTAMP:20260425T175002
CREATED:20241202T110338Z
LAST-MODIFIED:20241202T115737Z
UID:7128-1734267600-1734283800@devliegendeolifant.nl
SUMMARY:Zondag 15 december: Ontdek de kracht van Winterse familieopstellingen - met de Systeemkijkers: Annero Stoppels & Ingrid Regelink
DESCRIPTION:‘De winter nodigt uit tot verstilling\, bezinning en diepe rust. Het is tijd om naar binnen te keren en ruimte te maken voor nieuwe groei ‘ \nTijdens deze winterse familieopstellingen verkennen wij – de Systeemkijkers: Annero Stoppels & INgrid Regelink  –  de thema’s van loslaten\, vergeving\, zelfzorg en het planten van intenties voor het komende jaar. \n  \nPraktische informatie: \nDatum: 15 december 2024 \nTijd: vanaf 13.00 uur \nPlaats: De Vliegende Olifant \nDuur: 4\,5 uur \nKosten: 80 euro \nAanmelden: stuur een email naar Annero Stoppels en Ingrid Regelink via hi@desysteemkijkers.nl of bel naar 06-21281403 voor vragen of om je aan te melden. \n 
URL:https://devliegendeolifant.nl/event/zondag-15-december-ontdek-de-kracht-van-winterse-familieopstellingen/
LOCATION:De Vliegende Olifant\, De Wetstraat 24\, Arnhem\, 6814 AP\, Netherlands
END:VEVENT
END:VCALENDAR