BEGIN:VCALENDAR
VERSION:2.0
PRODID:-//De Vliegende Olifant - ECPv5.3.1.1//NONSGML v1.0//EN
CALSCALE:GREGORIAN
METHOD:PUBLISH
X-WR-CALNAME:De Vliegende Olifant
X-ORIGINAL-URL:https://devliegendeolifant.nl
X-WR-CALDESC:Evenementen voor De Vliegende Olifant
BEGIN:VTIMEZONE
TZID:Europe/Amsterdam
BEGIN:DAYLIGHT
TZOFFSETFROM:+0100
TZOFFSETTO:+0200
TZNAME:CEST
DTSTART:20240331T010000
END:DAYLIGHT
BEGIN:STANDARD
TZOFFSETFROM:+0200
TZOFFSETTO:+0100
TZNAME:CET
DTSTART:20241027T010000
END:STANDARD
END:VTIMEZONE
BEGIN:VEVENT
DTSTART;TZID=Europe/Amsterdam:20241129T200000
DTEND;TZID=Europe/Amsterdam:20241129T220000
DTSTAMP:20260425T162201
CREATED:20241015T140326Z
LAST-MODIFIED:20241030T140832Z
UID:7075-1732910400-1732917600@devliegendeolifant.nl
SUMMARY:Vrijdag 29 november  Inspiratie- Filmavond 'CODE 12'
DESCRIPTION:Op deze avond wordt de nieuwe film/documentaire getoond: CODE 12 \nKunnen oude megalitische structuren\, spirituele teksten uit elke cultuur en quantumfysica de sleutel bevatten om het geheim van de structuur van het universum te ontrafelen? In deze groundbreaking documentaire doet onderzoeksjournaliste Melissa Tittle  een zeer verrassende ontdekking. Iets wat nooit openbaar gemaakt lijkt te zijn: Een geheim. \n“CODE 12 is a must-watch for anyone interested in exploring the limits of our current understanding of the universe and our place in it. It presents a fascinating case for a simulated reality\, and while it may not provide definitive answers\, it challenges us to think deeply about the world we live in and our potential for growth and evolution.” \nAanvang documentaire: 20.00 uur \nInloop vanaf 19.30 uur met koffie/thee en biologisch lekkers \nTicket voor de koffie/thee/ lekkers en verwarming: € 12\,50 . Duotickets: € 20\,00  Graag contant te betalen bij entree. \nOpgave: mail naar info@devliegendeolifant.nl  \n  \n 
URL:https://devliegendeolifant.nl/event/vrijdag-25-oktober-inspiratie-filmavond/
LOCATION:De Vliegende Olifant\, De Wetstraat 24\, Arnhem\, 6814 AP\, Netherlands
ORGANIZER;CN="Jeannette%20Uittenbogaard":MAILTO:info@devliegendeolifant.nl
END:VEVENT
END:VCALENDAR