BEGIN:VCALENDAR
VERSION:2.0
PRODID:-//De Vliegende Olifant - ECPv5.3.1.1//NONSGML v1.0//EN
CALSCALE:GREGORIAN
METHOD:PUBLISH
X-WR-CALNAME:De Vliegende Olifant
X-ORIGINAL-URL:https://devliegendeolifant.nl
X-WR-CALDESC:Evenementen voor De Vliegende Olifant
BEGIN:VTIMEZONE
TZID:Europe/Amsterdam
BEGIN:DAYLIGHT
TZOFFSETFROM:+0100
TZOFFSETTO:+0200
TZNAME:CEST
DTSTART:20240331T010000
END:DAYLIGHT
BEGIN:STANDARD
TZOFFSETFROM:+0200
TZOFFSETTO:+0100
TZNAME:CET
DTSTART:20241027T010000
END:STANDARD
END:VTIMEZONE
BEGIN:VEVENT
DTSTART;TZID=Europe/Amsterdam:20241116T133000
DTEND;TZID=Europe/Amsterdam:20241116T163000
DTSTAMP:20260425T175217
CREATED:20241030T141136Z
LAST-MODIFIED:20241030T141136Z
UID:7101-1731763800-1731774600@devliegendeolifant.nl
SUMMARY:Zaterdagmiddag 16 november 'Workshop Tinnitus Adem Therapie'met Henriette Bakker
DESCRIPTION:Tinnitus Adem Therapie in groepsverband op zaterdagmiddag. \nDatum: 16 november 2024 \nTijd: 13.30 – 16.30 uur   \n\nMet de Tinnitus Adem Therapie gaat u zelf aan het werk om uw tinnitus of hyperacusis te verminderen of te laten verdwijnen. We werken in Arnhem\, in De Vliegende Olifant. De Wetstraat 24. \nKosten voor deze cursusmiddag bedragen 75\,- euro per persoon. \nDe prijs is inclusief BTW  \nAlle oefeningen worden  gezamenlijk gedaan tijdens de zaterdagsessie. \nDe lessen worden gegeven door musicus\, vertaler en Tinnitus Coach Henriëtte Bakker.  Zij is ook ervaringsdeskundige en leerling van de grondlegster van de TAT; Maria Holl. \nDe TAT bestaat uit diverse series gecombineerde oefeningen. Mindfulness. Yoga\, Qi gong\, Ademhalingstraining voor meer relaxatie. Door de uitgekiende volgorde van deze oefeningen dagelijks te herhalen krijgt u vat op onrust en tinnitusverschijnselen. U kunt uzelf door de training meer in de Alfastaat brengen en houden. Uw innerlijke rustpunt komt tevoorschijn ONDER de tinnitusverschijnselen door. \nAanmelden kan via tinnitusademtherapie@gmail.com.\n \nVoor meer informatie kunt u bellen met 06 26 488182 of neem een kijkje op de website. www.tinnitusademtherapie.nl 
URL:https://devliegendeolifant.nl/event/zaterdagmiddag-16-november-workshop-tinnitus-adem-therapiemet-henriette-bakker/
LOCATION:De Vliegende Olifant\, De Wetstraat 24\, Arnhem\, 6814 AP\, Netherlands
END:VEVENT
END:VCALENDAR