BEGIN:VCALENDAR
VERSION:2.0
PRODID:-//De Vliegende Olifant - ECPv5.3.1.1//NONSGML v1.0//EN
CALSCALE:GREGORIAN
METHOD:PUBLISH
X-WR-CALNAME:De Vliegende Olifant
X-ORIGINAL-URL:https://devliegendeolifant.nl
X-WR-CALDESC:Evenementen voor De Vliegende Olifant
BEGIN:VTIMEZONE
TZID:Europe/Amsterdam
BEGIN:DAYLIGHT
TZOFFSETFROM:+0100
TZOFFSETTO:+0200
TZNAME:CEST
DTSTART:20240331T010000
END:DAYLIGHT
BEGIN:STANDARD
TZOFFSETFROM:+0200
TZOFFSETTO:+0100
TZNAME:CET
DTSTART:20241027T010000
END:STANDARD
END:VTIMEZONE
BEGIN:VEVENT
DTSTART;TZID=Europe/Amsterdam:20240920T080000
DTEND;TZID=Europe/Amsterdam:20240927T190000
DTSTAMP:20260425T134513
CREATED:20240723T202832Z
LAST-MODIFIED:20240917T113939Z
UID:6978-1726819200-1727463600@devliegendeolifant.nl
SUMMARY:20 - 27 sept: Belevingsreis (Retreat) voor Vrouwen 'De Bergen als Krachtbron' in Zwitserland - VOLGEBOEKT -
DESCRIPTION:Belevingsreis (Retreat) voor Vrouwen’ De Bergen als Krachtbron’ van 20 – 27 september 2024
URL:https://devliegendeolifant.nl/event/belevingsreis-retreat-voor-vrouwen-de-bergen-als-krachtbron-in-zwitserland/
LOCATION:Hotel Val Sinestra Zwitserland\, Sent\, GR\, 7554\, Zwitserland
ORGANIZER;CN="Fysiobowenpraktijk%20Arnhem":MAILTO:info@fysiobowenpraktijkarnhem.nl
END:VEVENT
END:VCALENDAR