BEGIN:VCALENDAR
VERSION:2.0
PRODID:-//De Vliegende Olifant - ECPv5.3.1.1//NONSGML v1.0//EN
CALSCALE:GREGORIAN
METHOD:PUBLISH
X-WR-CALNAME:De Vliegende Olifant
X-ORIGINAL-URL:https://devliegendeolifant.nl
X-WR-CALDESC:Evenementen voor De Vliegende Olifant
BEGIN:VTIMEZONE
TZID:Europe/Amsterdam
BEGIN:DAYLIGHT
TZOFFSETFROM:+0100
TZOFFSETTO:+0200
TZNAME:CEST
DTSTART:20240331T010000
END:DAYLIGHT
BEGIN:STANDARD
TZOFFSETFROM:+0200
TZOFFSETTO:+0100
TZNAME:CET
DTSTART:20241027T010000
END:STANDARD
END:VTIMEZONE
BEGIN:VEVENT
DTSTART;TZID=Europe/Amsterdam:20240913T133000
DTEND;TZID=Europe/Amsterdam:20240913T173000
DTSTAMP:20260425T134355
CREATED:20240430T215304Z
LAST-MODIFIED:20240820T132515Z
UID:6951-1726234200-1726248600@devliegendeolifant.nl
SUMMARY:Vrijdag 13 september: Start nieuw traject 'Persoonlijke Ontwikkeling & Bewustwording met ziels- en familieopstellingen'.
DESCRIPTION:Op vrijdag 13 september start het nieuwe traject ‘Persoonlijke ontwikkeling & Bewustwording’ met ziels- en familieopstellingen’ onder leiding van Jeannette Uittenbogaard. \nEen traject van7  bijeenkomsten  – 7 dagdelen  – met max 8 personen. \n“I Am who I Am” \n“In een tijd waarin er veel gebeurt en verandert en we geleerd hebben om ons vooral op de buitenwereld af te stemmen\, is het makkelijk om het contact met onszelf kwijt te raken”.  \n  \nTijdens dit traject van 7 bijeenkomsten die 1 x in de 3 weken plaatsvinden\, sta je stil bij jezelf. Het is een ontdekkingstocht in een groep met gelijkgestemden. Wie ben ik ? Wat wil ik? Waarom ben ik hier? Waar hou ik van?  Hoe kan ik het leven wat ik graag wil\, manifesteren? \nTijden de trainingsbijeenkomsten wordt er: \n\ngedeeld\ngeïnspireerd\ngeinformeerd\nonderzocht\nont-dekt\nher-innerd\ngevoeld\ngeïmproviseerd\nstil gestaan én bewogen.\n\nWat leeft er?  Wat ontvouwt er zich? Wat is er nodig? \nEr wordt gewerkt met: \nLichaamswerk & Spel/ Ademhaling/ Qigong -Meditatie in beweging / Systemisch werk (ziels- en familieopstellingen) \nHet doel van de training?  \nOm meer te weten wie je bent\, om je zelfwaarde te vergroten\, om te voelen waar jij van houdt\, om te weten wat je nodig hebt\, om te kunnen delen met gelijkgestemden en om ten diepste te begrijpen waarom jij er zo ongelofelijk toe doet. \n✨✨✨✨✨✨✨✨✨✨✨✨✨ \nInspiratie uit ‘Het handboek dat je bij de geboorte niet meekreeg’: \nVraag: Wat moet je doen als je succesvol wilt zijn in je carrière? \n“Vanuit ons perspectief hebben wij voor jullie één advies: volg je passie. Weet wat datgene is waar je het meest gepassioneerd over bent\, daar liggen je kwaliteiten en daar ligt jouw levensbestemming. (…) \nJe bent in deze dimensie geïncarneerd met een volledige gereedschapskist\, waar alles wat je voor je eigen zelfontplooiing nodig hebt in ligt. Alles zit binnen in je\, je hoeft niets buiten jezelf te zoeken. Je dient je er alleen bewust van te worden”.  \n✨✨✨✨✨✨✨✨✨✨✨✨✨ \nHeb je (levens)vragen? Heb je behoefte om met gelijkgestemden te kunnen delen?\nWil je meer stroming\, meer plezier\, meer liefde in je leven? Wil je je grenzen beter leren aangeven? Zijn er (overgenomen) collectieve en persoonlijke overtuigingen die je los mag laten?\nOf zijn er andere thema’s die je wilt onderzoeken? \nDan nodig ik je van harte uit om mee te doen.\nGeef je op via een pb of stuur een e-mail naar info@fysiobowenpraktijkarnhem.nl \nStartdatum: vrijdag 13 september 2024 \n(Data: 13/9 – 4/10 – 25/10 – 15/11 – 06/12- 10/01/2025 – 31/01) \nTijd: 13.30 – 17.00\nInvestering: 475 euro (excl btw). Voor evt gedeeltelijke vergoeding\, neem graag contact op met Jeannette. \n\nDeze reis voelt als een warm bad. Samen ontwikkelen\, ieder op zijn eigen manier. Het is bijzonder leerzaam dit ook als groep te doen.\nEr is volop ruimte om te ontdekken en onderzoeken. Ik vind het ontzettend gaaf ook om van de andere vrouwen te leren\, je maakt bijzonder intense momenten met elkaar mee en dat verbindt zó mooi! (Margreet) \n\n (…) last but not least heb ik eindelijk weer naar mijn hart leren luisteren. In een maatschappij waarin vaak alle beslissingen rationeel besloten moeten worden (zo voelt dat dan) voelde dit niet alleen bijzonder aangenaam en fijn\, maar ook verdiend. (Robert student)\n\n\nVoor aanmelding en informatie mail naar info@fysiobowenpraktijkarnhem.nl of bel 0614117058 of kijk op de website Fysiobowenpraktijk Arnhem \n  \n 
URL:https://devliegendeolifant.nl/event/13-september-traject-persoonlijke-ontwikkeling-met-familie-en-zielsopstellingen/
LOCATION:De Vliegende Olifant\, De Wetstraat 24\, Arnhem\, 6814 AP\, Netherlands
ORGANIZER;CN="Jeannette%20Uittenbogaard":MAILTO:info@devliegendeolifant.nl
END:VEVENT
BEGIN:VEVENT
DTSTART;TZID=Europe/Amsterdam:20240913T200000
DTEND;TZID=Europe/Amsterdam:20240913T220000
DTSTAMP:20260425T134355
CREATED:20240908T122232Z
LAST-MODIFIED:20240908T122232Z
UID:7026-1726257600-1726264800@devliegendeolifant.nl
SUMMARY:Inspiratie/Filmavond 13 september
DESCRIPTION:Op deze avond staat het waargebeurde verhaal van Dave centraal in de film Bank of Dave. Een selfmade millionair die een eigen bank wil beginnen ten behoeve van de gemeenschap. \nHoe een eeling de wereld kan veranderen. Een optimistisch\, aanstekelijk verhaal. \nVoor wie wil\, praten we met elkaar na. \nJe bent welkom vanaf 19.45 uur voor koffie/thee. \nDe film start om 20.00 uur \nBijdrage: 12\,50 euro (incl koffie/thee/lekkers)
URL:https://devliegendeolifant.nl/event/inspiratie-filmavond-13-september/
LOCATION:De Vliegende Olifant\, De Wetstraat 24\, Arnhem\, 6814AP\, Netherlands
END:VEVENT
END:VCALENDAR