BEGIN:VCALENDAR
VERSION:2.0
PRODID:-//De Vliegende Olifant - ECPv5.3.1.1//NONSGML v1.0//EN
CALSCALE:GREGORIAN
METHOD:PUBLISH
X-WR-CALNAME:De Vliegende Olifant
X-ORIGINAL-URL:https://devliegendeolifant.nl
X-WR-CALDESC:Evenementen voor De Vliegende Olifant
BEGIN:VTIMEZONE
TZID:Europe/Amsterdam
BEGIN:DAYLIGHT
TZOFFSETFROM:+0100
TZOFFSETTO:+0200
TZNAME:CEST
DTSTART:20240331T010000
END:DAYLIGHT
BEGIN:STANDARD
TZOFFSETFROM:+0200
TZOFFSETTO:+0100
TZNAME:CET
DTSTART:20241027T010000
END:STANDARD
END:VTIMEZONE
BEGIN:VEVENT
DTSTART;TZID=Europe/Amsterdam:20240902T200000
DTEND;TZID=Europe/Amsterdam:20240902T213000
DTSTAMP:20260425T133402
CREATED:20240820T141143Z
LAST-MODIFIED:20240820T145539Z
UID:7011-1725307200-1725312600@devliegendeolifant.nl
SUMMARY:Vanaf 2 september: Start nieuwe seizoen groepslessen Chineng Qigong & Bodymindfulness
DESCRIPTION:In de week van 2 september start het nieuwe seizoen voor de groepslessen Chineng Qigong/ Bodymindfulness. Deze lessen (op maandagavond (20.00 – 21.30 ) en dinsdagochtend (09.30 – 11.00) en worden gegeven door Jeannette Uittenbogaard fysiotherapeute\, lichaamsgericht en systemisch coach en chineng qigongdocent. \nJeannette Uittenbogaard: fysiobowentherapeute\, lichaamsgericht en systemisch coach en docent Chineng Qigong begeleidt ruim 30 jaar mensen in belevingsgericht lichaamswerk en persoonlijke ontwikkeling. Zij integreert het bewustzijn van lichaam\, emoties en mind op haar eigen wijze. Een combinatie van fysiotherapie/ feldenkrais/ yoga/ chineng qigong en vrije expressie. Het doel: meer verbinding bij jezelf\, thuiskomen in je lijf en vooral weer vreugde en vitaliteit ervaren. \nVoor meer informatie: zie www.fysiobowenpraktijkarnhem.nl 
URL:https://devliegendeolifant.nl/event/vanaf-2-september-start-nieuwe-seizoen-groepslessen-chineng-qigong-bodymindfulness/
LOCATION:De Vliegende Olifant\, De Wetstraat 24\, Arnhem\, 6814 AP\, Netherlands
ORGANIZER;CN="Fysiobowenpraktijk%20Arnhem":MAILTO:info@fysiobowenpraktijkarnhem.nl
END:VEVENT
END:VCALENDAR