BEGIN:VCALENDAR
VERSION:2.0
PRODID:-//De Vliegende Olifant - ECPv5.3.1.1//NONSGML v1.0//EN
CALSCALE:GREGORIAN
METHOD:PUBLISH
X-WR-CALNAME:De Vliegende Olifant
X-ORIGINAL-URL:https://devliegendeolifant.nl
X-WR-CALDESC:Evenementen voor De Vliegende Olifant
BEGIN:VTIMEZONE
TZID:Europe/Amsterdam
BEGIN:DAYLIGHT
TZOFFSETFROM:+0100
TZOFFSETTO:+0200
TZNAME:CEST
DTSTART:20250330T010000
END:DAYLIGHT
BEGIN:STANDARD
TZOFFSETFROM:+0200
TZOFFSETTO:+0100
TZNAME:CET
DTSTART:20251026T010000
END:STANDARD
END:VTIMEZONE
BEGIN:VEVENT
DTSTART;TZID=Europe/Amsterdam:20250323T140000
DTEND;TZID=Europe/Amsterdam:20250323T170000
DTSTAMP:20260425T050901
CREATED:20250223T194547Z
LAST-MODIFIED:20250223T194714Z
UID:7217-1742738400-1742749200@devliegendeolifant.nl
SUMMARY:Zondag 23 maart: Start 'The souls journey' - een traject voor hoogbegaafde\, sensitieve jonge mensen (16-24 jaar) - Kristalkinderen\, GeneratieZ.
DESCRIPTION:Traject: ‘The souls Journey’ – Ontdek jouw unieke kracht  een programma voor hoogbegaafde\, sensitieve jonge mensen (kristal/regenboog/ generatie Z) van 16-24 jaar. \nEen reis naar zelfbewustzijn\, emotionele balans en spirituele groei voor de nieuwe generatie.\nstartend op zondag 23 maart as. \nWaarom dit programma?  \nAls hoogbegaafde jongere of Kristalkind heb je vaak een dieper gevoel voor de wereld om je heen. Je denkt intens\, voelt diep en hebt vaak een sterk verlangen om je unieke plek in de wereld te begrijpen. Dit programma is speciaal voor jou\, als je: \n\nZoekt naar innerlijke rust en balans in een snelle\, onduidelijke wereld.\nMeer wilt leren over wie je werkelijk bent en hoe je je gevoeligheid kunt gebruiken als kracht.\nOp zoek bent naar antwoorden die verder gaan dan de oppervlakte en jouw spirituele pad wilt ontdekken.\n\nMet behulp van methodieken zoals mindfulness\, familieopstellingen\, lichaamswerk en creatieve opdrachten bied ik jullie handvatten om in je eigen kracht te staan en je potentieel volledig te benutten. \n  \nJe plek innemen\, zichtbaar worden\, je diep verbinden met je lichaam\, met jezelf\, het centrum van de kosmos. \nWat mag je loslaten\, versterken\, her-inneren?  Wat heb je nodig om te zijn wie je in essentie bent ?!  \nMiddagen vol inspiratie\, onderzoek\, plezier en self-empowerment \n  \nHet programma  \nDuur: 8 weken\nFrequentie: 1 sessie per 3 weken van 3 uur op zondagmiddag\nLocatie: De Vliegende Olifant Arnhem\nStartdatum: zondag 23 maart 2025  \nTijd: 14.00 – 17.00 uur \nDocente: Jeannette Uittenbogaard. Coach systemisch werk/fysiobowentherapeut/ docent Bodymindfulness en Chineng Qigong. Ruim 10 jaar gericht in het begeleiden van jonge mensen in een tijd van grote verandering. \nEn gastdocenten. \nGroepsgrootte: Maximaal 8 deelnemers (om voldoende ruimte te hebben voor persoonlijke aandacht) \nInhoud: is op te vragen. Stuur een email naar info@devliegendeolifant.nl  \nStartdatum:  \nTijd: 14.00 – 17.00 uur. \nAndere data: wordt nog bekend gemaakt. \n  \nKosten en Mogelijkheden: \nKosten: €745\,00 voor het volledige programma \nInclusief: \n\n8 groepssessies van 3 uur\, in een rustige en veilige omgeving\nAlle benodigde materialen (creatieve tools\, werkbladen\, etc.)\nPersoonlijke begeleiding en toegang tot extra hulpmiddelen tussen de sessies door\n\nBetalingsopties: \n\nGespreid betalen: Betaal in 3 termijnen van €250 of 5 termijnen van €150 zonder extra kosten.\nVergoeding: Dit programma kan evt deels vergoed worden via aanvullende zorgverzekeringen of PGB. Wij helpen je graag bij het verkennen van vergoedingsmogelijkheden\n\nOpgave/ informatie over evt korting/ tegemoetkoming: Stuur een email naar: info@devliegendeolifant.nl \n 
URL:https://devliegendeolifant.nl/event/zondag-23-maart-start-the-souls-journey-een-traject-voor-hoogbegaafde-sensitieve-jonge-mensen-16-24-jaar-kristalkinderen-generatiez/
LOCATION:De Vliegende Olifant\, De Wetstraat 24\, Arnhem\, 6814 AP\, Netherlands
ORGANIZER;CN="Jeannette%20Uittenbogaard":MAILTO:info@devliegendeolifant.nl
END:VEVENT
END:VCALENDAR