BEGIN:VCALENDAR
VERSION:2.0
PRODID:-//De Vliegende Olifant - ECPv5.3.1.1//NONSGML v1.0//EN
CALSCALE:GREGORIAN
METHOD:PUBLISH
X-WR-CALNAME:De Vliegende Olifant
X-ORIGINAL-URL:https://devliegendeolifant.nl
X-WR-CALDESC:Evenementen voor De Vliegende Olifant
BEGIN:VTIMEZONE
TZID:Europe/Amsterdam
BEGIN:DAYLIGHT
TZOFFSETFROM:+0100
TZOFFSETTO:+0200
TZNAME:CEST
DTSTART:20250330T010000
END:DAYLIGHT
BEGIN:STANDARD
TZOFFSETFROM:+0200
TZOFFSETTO:+0100
TZNAME:CET
DTSTART:20251026T010000
END:STANDARD
END:VTIMEZONE
BEGIN:VEVENT
DTSTART;TZID=Europe/Amsterdam:20250621T190000
DTEND;TZID=Europe/Amsterdam:20250621T230000
DTSTAMP:20260424T204845
CREATED:20250223T185733Z
LAST-MODIFIED:20250223T185901Z
UID:7209-1750532400-1750546800@devliegendeolifant.nl
SUMMARY:Zaterdag 21 juni : Film Inspiratieavond en de Zomerwende. 'We are the thousand'
DESCRIPTION:Zaterdag 21 juni 2025 :De documentaire ‘We are the thousand’.  \n \nWat heeft heeft dromen met manifesteren te maken? \nWe kijken op deze afsluitende avond van het seizoen naar de droom van Fabio Zaffagnini die 1000 muzikanten uitnodigt om ‘learn to fly’ van de Foo Fighters te spelen om op deze manier de leider van de band Dave Grohl  te verleiden om naar Cesena in Italie te laten komen met zijn band. \nEen avond waarin het seizoen wordt afgesloten\, de zomerwende\, met eten/drinken en deze aanstekelijke documentaire. \n  \nVoor deze avond geldt: \nAanvang: 19.00 uur. \nHet maximum aantal bezoekers is maximaal 25. Opgave rsvp. \nOpgave via info@devliegendeolifant.nl of via een whatsapp bericht naar Jeannette 06 14117058 \nTenzij anders vermeld: Entree € 15\,00 plus zelfgemaakt lekkers en te drinken voor een gezamenlijke maaltijd\, een inspirerende avond en koffie/thee. Graag contant te betalen bij binnenkomst.
URL:https://devliegendeolifant.nl/event/zaterdag-21-juni-film-inspiratieavond-en-zomerwende-we-are-the-thousand/
LOCATION:De Vliegende Olifant\, De Wetstraat 24\, Arnhem\, 6814 AP\, Netherlands
ORGANIZER;CN="Jeannette%20Uittenbogaard":MAILTO:info@devliegendeolifant.nl
END:VEVENT
END:VCALENDAR