BEGIN:VCALENDAR
VERSION:2.0
PRODID:-//De Vliegende Olifant - ECPv5.3.1.1//NONSGML v1.0//EN
CALSCALE:GREGORIAN
METHOD:PUBLISH
X-WR-CALNAME:De Vliegende Olifant
X-ORIGINAL-URL:https://devliegendeolifant.nl
X-WR-CALDESC:Evenementen voor De Vliegende Olifant
BEGIN:VTIMEZONE
TZID:Europe/Amsterdam
BEGIN:DAYLIGHT
TZOFFSETFROM:+0100
TZOFFSETTO:+0200
TZNAME:CEST
DTSTART:20250330T010000
END:DAYLIGHT
BEGIN:STANDARD
TZOFFSETFROM:+0200
TZOFFSETTO:+0100
TZNAME:CET
DTSTART:20251026T010000
END:STANDARD
END:VTIMEZONE
BEGIN:VEVENT
DTSTART;TZID=Europe/Amsterdam:20251121T133000
DTEND;TZID=Europe/Amsterdam:20251121T173000
DTSTAMP:20260423T212317
CREATED:20251020T161434Z
LAST-MODIFIED:20251020T161456Z
UID:7442-1763731800-1763746200@devliegendeolifant.nl
SUMMARY:Vrijdagmiddag 21 november; VROUWENINSPIRATIECIRKEL 'I know who I am'
DESCRIPTION:  \nOp vrijdagmiddag 21 november is er opnieuw de introductieworkshop Ziels- en Familieopstellingen vanuit het  thema: I know who I am. \nWeten wie je bent – vanuit zielsoogpunt – kan een heel groot verschil maken in je leven. Het geeft een breder perspectief\, haalt je uit de slachtofferrol en zet je onmiddellijk in je kracht. \nOp deze vrijdagmiddag onderzoek je via Ziels- en Familieopstellingen jouw weg naar authenticiteit\, verbinding\, liefde en kracht. \nOnderwerpen: \n– het lopen van je zielsreis \n– het onderzoeken van onbewuste (overgenomen) collectieve overtuigingen en/of verbindingen en verstrikkingen binnen je familiesysteem. \nDit doen we in kleine (max 8 personen) groepen. \nWil je :  \n\nMeer vanuit een breder perspectief inzicht krijgen in wie je bent\nPatronen doorbreken en meer vrijheid\, verbinding\, liefde en vreugde ervaren.\nBeter gaan begrijpen wie je bent en waar bepaalde gevoelens of fysieke klachten vandaan komen.\nEen liefdevolle en ondersteunende omgeving voor persoonlijke groei.\nMeer verbinding met jezelf en met anderen\n\nDan ben je van harte welkom! \nJe hoeft geen ervaring hoeft te hebben met opstellingen om deel te nemen. \nVoor meer informatie/ of zie de agenda. \n  \n 
URL:https://devliegendeolifant.nl/event/vrijdagmiddag-7-november-vrouweninspiratiecirkel-i-know-who-i-am/
LOCATION:De Vliegende Olifant\, De Wetstraat 24\, Arnhem\, 6814 AP\, Netherlands
ORGANIZER;CN="Jeannette%20Uittenbogaard":MAILTO:info@devliegendeolifant.nl
END:VEVENT
END:VCALENDAR