BEGIN:VCALENDAR
VERSION:2.0
PRODID:-//De Vliegende Olifant - ECPv5.3.1.1//NONSGML v1.0//EN
CALSCALE:GREGORIAN
METHOD:PUBLISH
X-WR-CALNAME:De Vliegende Olifant
X-ORIGINAL-URL:https://devliegendeolifant.nl
X-WR-CALDESC:Evenementen voor De Vliegende Olifant
BEGIN:VTIMEZONE
TZID:Europe/Amsterdam
BEGIN:DAYLIGHT
TZOFFSETFROM:+0100
TZOFFSETTO:+0200
TZNAME:CEST
DTSTART:20250330T010000
END:DAYLIGHT
BEGIN:STANDARD
TZOFFSETFROM:+0200
TZOFFSETTO:+0100
TZNAME:CET
DTSTART:20251026T010000
END:STANDARD
END:VTIMEZONE
BEGIN:VEVENT
DTSTART;TZID=Europe/Amsterdam:20250627T133000
DTEND;TZID=Europe/Amsterdam:20250627T173000
DTSTAMP:20260424T194907
CREATED:20250326T215759Z
LAST-MODIFIED:20250623T155915Z
UID:7236-1751031000-1751045400@devliegendeolifant.nl
SUMMARY:Vrijdagmiddag 27 juni: Workshop Ziels- en Familieopstellingen 'Herinneren wie je werkelijk bent'.
DESCRIPTION:Van harte welkom bij de workshop Ziels & Familieopstelling op vrijdag 20 juni 2025.  De afsluitende middag van de serie van 6 vrijdagmiddagen van januari – juni 2025 die zowel los als ook als traject gevolgd konden worden. \n \n“in je Hart ben jij je Ware Zelf\, het is wie je werkelijk bent” \n(Taira Seifaddini) \nOp deze middagen met Ziel- en Familiepstellingen staan jij en jouw zielsmissie centraal.\nWe verdiepen en verbreden je kijk op jezelf door het lopen van je zielspad. Een innerlijke reis: her-inneren en je plek krachtiger innemen.\nWat mag er verhelderen\, kan losgelaten of juist versterkt worden? \nEen dag vol manifestatietools aan de hand van individuele vragen die zowel persoonlijk als ook bedrijfmatig kunnen zijn. \n(Afb: Jean Luc Bozzoli) \nHet doel: \n\nhet voelen van de resonantie met jouw energie\nde verbinding met je levensstroom verhelderen en versterken\nhet vertrouwen versterken dat je in staat bent om jouw gewenste toekomst te creëren.\n\nNa een korte inleiding met licht lichaamswerk en meditatie\, gaan we via ziel- en familieopstellingen op onderzoek uit. \n\nWil je steviger gebed worden in wie je in essentie bent en meer helderheid in jouw levenskoers ?\nWil je helderheid verkrijgen over je werk/ je (a.s.)  bedrijf?\nEn lijkt het je fijn om te werken met een relatief kleine groep (max 8 personen)?\n\nDoe dan mee en bestel hier je ticket . \nEerdere deelnemers zeiden: \nWat een prachtige ervaring en waarschijnlijk ook een diep transformerende verandering ! Heel dankbaar voor Jeannete haar liefdevolle authentieke\, professionele aanwezigheid en aanpak van het systematisch werk! \nSuper fijne\, veilig en vertrouwde plek om een opstelling te kunnen doen. De opstellingen worden op waardevolle en zeker professionele manier begeleid en dit maakt dat ik een enorme ervaring rijker ben.  \nBijdrage: 105 euro ex btw en incl koffie/thee/ biologisch lekkers of bestel een meerdaagse ticket. \nWil je informatie over een evt. vergoeding\, neem dan contact op met Jeannette via info@fysiobowenpraktijkarnhem.nl \nDatum: vrijdag 27 juni 2025 \nTijd: 13.30 – 17.30 uur \nInloop vanaf 13.10 uur \nDe data voor het najaar worden binnenkort bekend gemaakt. \nLeiding: Jeannette Uittenbogaard Systemisch Coach en fysio- bowentherapeut van Fysiobowenpraktijk Arnhem \nLocatie: De Vliegende Olifant. De Wetstraat 24 – 6814 AP Arnhem
URL:https://devliegendeolifant.nl/event/vrijdagmiddag-20-juni-workshop-ziels-en-familieopstellingen-je-persoonlijke-kracht-manifesteren/
LOCATION:De Vliegende Olifant\, De Wetstraat 24\, Arnhem\, 6814 AP\, Netherlands
ORGANIZER;CN="Jeannette%20Uittenbogaard":MAILTO:info@devliegendeolifant.nl
END:VEVENT
END:VCALENDAR