BEGIN:VCALENDAR
VERSION:2.0
PRODID:-//De Vliegende Olifant - ECPv5.3.1.1//NONSGML v1.0//EN
CALSCALE:GREGORIAN
METHOD:PUBLISH
X-WR-CALNAME:De Vliegende Olifant
X-ORIGINAL-URL:https://devliegendeolifant.nl
X-WR-CALDESC:Evenementen voor De Vliegende Olifant
BEGIN:VTIMEZONE
TZID:Europe/Amsterdam
BEGIN:DAYLIGHT
TZOFFSETFROM:+0100
TZOFFSETTO:+0200
TZNAME:CEST
DTSTART:20260329T010000
END:DAYLIGHT
BEGIN:STANDARD
TZOFFSETFROM:+0200
TZOFFSETTO:+0100
TZNAME:CET
DTSTART:20261025T010000
END:STANDARD
END:VTIMEZONE
BEGIN:VEVENT
DTSTART;TZID=Europe/Amsterdam:20260130T200000
DTEND;TZID=Europe/Amsterdam:20260130T220000
DTSTAMP:20260423T135635
CREATED:20250620T203422Z
LAST-MODIFIED:20251128T164828Z
UID:7316-1769803200-1769810400@devliegendeolifant.nl
SUMMARY:Vrijdagavond: 30 januari 2026  Inspiratie- filmavond 'Wolf's message - Two worlds\, One Heart' Suzanne Giesemann.
DESCRIPTION:Deze filmavond is verplaatst naar het nieuwe jaar – naar eind januari 2026. \nWelkom bij deze speciale editie van de inspiratie\,- filmavond met de docufilm ‘Wolf’s message’.  \nTijdens mijn eigen ont-dekkingsreis\, kwam in 2018 Suzanne Giesemann op mijn pad. Opnieuw iemand die zich bezig hield – evidence based werkend – met ons bewustzijn\, met vragen rond leven en dood en met de betekenis van ons leven hier op Aarde. Bovendien iemand met een bijzondere achtergrond. \nWas Suzanne vroeger een hoge ranking marine officier\, nu is ze het meest evidence-based medium van de VS. Aanleiding voor deze enorme verandering was de dood van haar stiefdochter – ook marine officier – door bliksem. Hier start haar zoektocht: Waar was de sprankeling die deze dochter zo had\, gebleven? Waar blijft die energie? Van haar verhaal is een documentaire gemaakt. Deze docu en meer informatie over haar leven en haar werk is te vinden op www.suzannegiesemann.com. \n  \nEen van haar boeken ‘Wolf’s message – Two worlds\, One Heart’ is onlangs als docufilm uitgekomen. Omdat deze zo goed past bij De Vliegende Olifant\, laat ik op deze avond de film zien en misschien ook het interview met de regisseur Jim Spruell. (ook een zeer bijzonder en inspirerend verhaal). \nWaar gaat de film over: \n“Wolf’s Message is the powerful true story of Michael “Wolf” Pasakarnis Jr.\, who was struck and killed by lightning and left profound evidence that he knew how\, when\, and where it would happen. With the help of evidence-based medium Suzanne Giesemann\, the film offers undeniable proof of consciousness beyond the physical body and challenges our understanding of life\, love\, and the soul’s eternal journey”. \nDe film is engelstalig met engelse ondertiteling. \nDe trailer: \n\n\n\n\n\n\n\n\n\n\n\n\nDatum: vrijdag 4 juli  en 28 november 2025  en eind januari 2026 \nZoals bij alle inspiratieavonden: \nTijd: 20.00 – 22.00 uur \nInloop vanaf 19.40 uur \nEntree: €15\,00 / duotickets €25\,00 incl koffie/thee/ biologisch lekkers. Graag contant te betalen bij binnenkomst. Een deel van de opbrengst gaat naar de stichting van Suzanne Giesemann. \nOpgave: via info@devliegendeolifant.nl of een PB naar 06 14117058 \nParkeren achter op ons parkeerterrein is –  beperkt –  mogelijk. Reserveer graag even een plek door een email of bericht te sturen. \n 
URL:https://devliegendeolifant.nl/event/vrijdagavond-4-juli-inspiratie-filmavond-wolfs-message-two-worlds-one-heart-suzanne-giesemann/
LOCATION:De Vliegende Olifant\, De Wetstraat 24\, Arnhem\, 6814 AP\, Netherlands
END:VEVENT
END:VCALENDAR