BEGIN:VCALENDAR
VERSION:2.0
PRODID:-//De Vliegende Olifant - ECPv5.3.1.1//NONSGML v1.0//EN
CALSCALE:GREGORIAN
METHOD:PUBLISH
X-WR-CALNAME:De Vliegende Olifant
X-ORIGINAL-URL:https://devliegendeolifant.nl
X-WR-CALDESC:Evenementen voor De Vliegende Olifant
BEGIN:VTIMEZONE
TZID:Europe/Amsterdam
BEGIN:DAYLIGHT
TZOFFSETFROM:+0100
TZOFFSETTO:+0200
TZNAME:CEST
DTSTART:20250330T010000
END:DAYLIGHT
BEGIN:STANDARD
TZOFFSETFROM:+0200
TZOFFSETTO:+0100
TZNAME:CET
DTSTART:20251026T010000
END:STANDARD
END:VTIMEZONE
BEGIN:VEVENT
DTSTART;TZID=Europe/Amsterdam:20251031T200000
DTEND;TZID=Europe/Amsterdam:20251031T220000
DTSTAMP:20260423T234852
CREATED:20250924T141914Z
LAST-MODIFIED:20250924T141941Z
UID:7408-1761940800-1761948000@devliegendeolifant.nl
SUMMARY:Vrijdag 31 oktober Film- Inspiratieavond
DESCRIPTION:Vrijdag 31 oktober 2025: Eternal Sky \n \n“Eternal Sky follows in the footsteps of some of the world’s leading astrophysicists as they seek to unravel the origins of time\, space and matter. In a unique lyrical parallel\, the film follows the lives of seververal Atacameno elders who take the viewer on a soulful vision of the cosmos”. \n  \nAanvang: 20.00 uur \nInloop: vanaf 19.30 uur \nEntree voor koffie/thee en verwarming: € 15\,00 Duotickets € 25\,00
URL:https://devliegendeolifant.nl/event/vrijdag-31-oktober-film-inspiratieavond/
LOCATION:De Vliegende Olifant\, De Wetstraat 24\, Arnhem\, 6814 AP\, Netherlands
ORGANIZER;CN="Jeannette%20Uittenbogaard":MAILTO:info@devliegendeolifant.nl
END:VEVENT
END:VCALENDAR