BEGIN:VCALENDAR
VERSION:2.0
PRODID:-//De Vliegende Olifant - ECPv5.3.1.1//NONSGML v1.0//EN
CALSCALE:GREGORIAN
METHOD:PUBLISH
X-WR-CALNAME:De Vliegende Olifant
X-ORIGINAL-URL:https://devliegendeolifant.nl
X-WR-CALDESC:Evenementen voor De Vliegende Olifant
BEGIN:VTIMEZONE
TZID:Europe/Amsterdam
BEGIN:DAYLIGHT
TZOFFSETFROM:+0100
TZOFFSETTO:+0200
TZNAME:CEST
DTSTART:20250330T010000
END:DAYLIGHT
BEGIN:STANDARD
TZOFFSETFROM:+0200
TZOFFSETTO:+0100
TZNAME:CET
DTSTART:20251026T010000
END:STANDARD
END:VTIMEZONE
BEGIN:VEVENT
DTSTART;TZID=Europe/Amsterdam:20251024T110000
DTEND;TZID=Europe/Amsterdam:20251024T170000
DTSTAMP:20260424T022113
CREATED:20250928T112051Z
LAST-MODIFIED:20250928T112510Z
UID:7422-1761303600-1761325200@devliegendeolifant.nl
SUMMARY:Vrijdag 24 oktober Workshop Seelen- & Familienaufstellungen. Thema: 'I know who I am'
DESCRIPTION:Wer bist du wirklich?\nDie moderne Frau – wo auch immer auf der Welt sie sich befindet und trotz all der Dinge\, die sie im Laufe der Jahrhunderte gelernt hat\, trotz aller Erneuerungen – erinnert sich noch immer nicht daran\, dass sie im Wesentlichen eine Göttin ist.  \n(‘Sjakkai’- Lynn Andrews)  \nZu wissen wer du bist – aus der Sicht der Seele – kann einen grossen Unterschied in deinem Leben machen. Es eröffnet dir en weiteres Perspectivfeld\, holt dich aus der Opferrolle und stellt dich unmittelbar in deine Kraft. \n  \nAn diesem Tag erforschen wir durch Seelen- und Familienaufstellungen & schamanische Arbeit deinen Weg zu Authentizität\, Verbundenheit\, Liebe und Kraft. \nThemen: \n\nDeinen Seelenweg gehen\nUnbewusste (übernommene)kollektive Überzeugungen untersuchen\nVerbindungen & Verstrickungen in deinem Familiensystem sichtbar machen\n\nWir arbeiten in kleinen Gruppen (max. 8 Teilnehmerinnen). \n__________________________________________________________ \nFür wen?\nMöchtest du….als moderne Frau.. \n\nAus der Sicht der Seele erkenne\, wer du bist\nMuster durchbrechen & mehr Freiheit\, Liebe\, Verbundenheit und Freude erleben\nBesser verstehen\, wo bestimmte Gefühle oder körperliche Beschwerden herkommen\nEine liebevolle & unterstützende Umgebung für dein persönliches Wachstum erfahren\nMehr Verbinding zu dir selbst und zu anderen spüren.\n\nDann bist du herzlich willkommen! \nKeine Vorerfahrung mit Aufstellungen notwendig. \n__________________________________________________________ \nPraktische Informationen:\n\nDatum: Freitag\, 24 Oktober 2025\nZeit: 11.00 – 17.00 Uhr\nOrt: De Vliegende Olifant – De Wetstraat 24 – 6814 AP Arnhem (Niederlände)\nLeitung: Jeannette Uittenbogaard & Marianne Folmer van  Vitalotte\n\nFür Anmeldung / weitere Informationen: schreibe an info@fysiobowenpraktijkarnhem.nl oder info@devliegendeolifant.nl \nTickets: € 175\,00
URL:https://devliegendeolifant.nl/event/vrijdag-24-oktober-workshop-seelen-familienaufstellungen-thema-i-know-who-i-am/
LOCATION:De Vliegende Olifant\, De Wetstraat 24\, Arnhem\, 6814 AP\, Netherlands
ORGANIZER;CN="Jeannette%20Uittenbogaard":MAILTO:info@devliegendeolifant.nl
END:VEVENT
END:VCALENDAR