BEGIN:VCALENDAR
VERSION:2.0
PRODID:-//De Vliegende Olifant - ECPv5.3.1.1//NONSGML v1.0//EN
CALSCALE:GREGORIAN
METHOD:PUBLISH
X-WR-CALNAME:De Vliegende Olifant
X-ORIGINAL-URL:https://devliegendeolifant.nl
X-WR-CALDESC:Evenementen voor De Vliegende Olifant
BEGIN:VTIMEZONE
TZID:Europe/Amsterdam
BEGIN:DAYLIGHT
TZOFFSETFROM:+0100
TZOFFSETTO:+0200
TZNAME:CEST
DTSTART:20250330T010000
END:DAYLIGHT
BEGIN:STANDARD
TZOFFSETFROM:+0200
TZOFFSETTO:+0100
TZNAME:CET
DTSTART:20251026T010000
END:STANDARD
END:VTIMEZONE
BEGIN:VEVENT
DTSTART;TZID=Europe/Amsterdam:20251017T133000
DTEND;TZID=Europe/Amsterdam:20251017T173000
DTSTAMP:20260424T035304
CREATED:20250929T175634Z
LAST-MODIFIED:20251007T113638Z
UID:7425-1760707800-1760722200@devliegendeolifant.nl
SUMMARY:Vrijdag 17 oktober;  Start Vrouweninspiratiecirkel 'I know who I am' op vrijdagmiddag (1 x 6 weken)
DESCRIPTION:“De moderne vrouw – waar ter wereld ze zich ook bevindt en ondanks alle dingen die ze in de loop der eeuwen heeft geleerd\, ondanks alle vernieuwingen – herinnert zich nog steeds niet dat ze in wezen een godin is.”  \n(uit Sjakkai – Lynn Andrews) \n  \nWil je na een van onze vrouwenretreats of na de introductieworkshop Ziels- en Familieopstellingen’ I know who I am‘ verder op het pad van heling & herinnering? \n  \nOp deze vrijdagmiddagen – 1 x per 6 weken – verdiep je met een kleine groep gelijkgestemde vrouwen de visie op jezelf en jouw leven. Wie ben je?  Zijn er collectieve (onbewust) overgenomen overtuigingen die losgelaten kunnen worden? Wat mag versterkt of meer zichtbaar worden? \nHet doel: Meer begrip en compassie voor jezelf\, meer flow\, meer verbinding voelen en vooral meer levensvreugde ervaren. \n_____________________________ \nHoe: \n\nLicht lichaamswerk – Bodymindfulness/ Chineng Qigong/lichaamsgewaarwordingsoefeningen/ adem en meditatie\nZiels- en familieopstellingen (of het opstellen van je lichamelijke klacht)\nMet ondersteuning van Marianne Folmer (sjamanisme/drum) van Vitalotte.nl\nCreatieve opdrachten\nInzicht: Inspiratiemateriaal\nIn deze structuur zijn het open middagen waarin je met je eigen vraag kunt komen. Persoonlijk/Werk gerelateerd.\n\n_____________________________ \nStartdatum: 17 oktober 2025 (oorspronkelijke datum: 10 okt – wegens een overlijden verzet) \nAndere data:  \n7 november; 19 december 2025;  30 januari ; 6 maart; 15 mei; 26 juni 2026 \nTijd: 13.30 – 17.30 uur \nBijdrage: € 85\,00 per middag/ € 525\,00 voor 7 keer – vergoeding is deels mogelijk. \nGa je mee op avontuur? \nGeef je dan op door me een email te sturen: info@fysiobowenpraktijkarnhem.nl of stuur een bericht naar 06 14117058
URL:https://devliegendeolifant.nl/event/vrijdag-10-oktober-start-vrouweninspiratiecirkel-op-vrijdagmiddag-1-x-6-weken/
LOCATION:De Vliegende Olifant\, De Wetstraat 24\, Arnhem\, 6814 AP\, Netherlands
ORGANIZER;CN="Jeannette%20Uittenbogaard":MAILTO:info@devliegendeolifant.nl
END:VEVENT
END:VCALENDAR