BEGIN:VCALENDAR
VERSION:2.0
PRODID:-//De Vliegende Olifant - ECPv5.3.1.1//NONSGML v1.0//EN
CALSCALE:GREGORIAN
METHOD:PUBLISH
X-WR-CALNAME:De Vliegende Olifant
X-ORIGINAL-URL:https://devliegendeolifant.nl
X-WR-CALDESC:Evenementen voor De Vliegende Olifant
BEGIN:VTIMEZONE
TZID:Europe/Amsterdam
BEGIN:DAYLIGHT
TZOFFSETFROM:+0100
TZOFFSETTO:+0200
TZNAME:CEST
DTSTART:20250330T010000
END:DAYLIGHT
BEGIN:STANDARD
TZOFFSETFROM:+0200
TZOFFSETTO:+0100
TZNAME:CET
DTSTART:20251026T010000
END:STANDARD
END:VTIMEZONE
BEGIN:VEVENT
DTSTART;TZID=Europe/Amsterdam:20251002T093000
DTEND;TZID=Europe/Amsterdam:20251002T110000
DTSTAMP:20260424T075055
CREATED:20250924T144325Z
LAST-MODIFIED:20250929T175337Z
UID:7411-1759397400-1759402800@devliegendeolifant.nl
SUMMARY:Vanaf donderdag 9 oktober: groepslessen lichaamsgewaarwording & Chineng Qigong
DESCRIPTION:Een nieuwe wekelijkse serie groepslessen ‘Lichaamsgewaarwording & Chineng Qigong’ onder leiding van Jeannette Uittenbogaard fysiotherapeute/ docent chineng qigong/ dansante en mindfulness / coach systemisch werk. \nJe lichaam is holistisch\, het is een hologram: elke cel weet dat het deel uitmaakt van het grote geheel en dient het grote geheel en het lichaam dient elke cel.  \n10 praktische lessen om jezelf en je lichaam beter te leren kennen\, meer lichaamsbewustwording te krijgen en om je natuurlijke evenwicht  – en daarmee je vitaliteit\, je gezondheid en levensvreugde – te herstellen. \n  \nOp deze ochtenden werken we in een kleine groep (max 8 personen) met \n\naandachts- en ademhalingsoefeningen\nyoga/ feldenkrais\nchineng qigong\nbewegingsexpressie\n\nVoor meer informatie: zie fysiobowenpraktijkarnhem.nl
URL:https://devliegendeolifant.nl/event/vanaf-donderdag-oktober-groepslessen-lichaamsgewaarwording-chineng-qigong/
LOCATION:De Vliegende Olifant\, De Wetstraat 24\, Arnhem\, 6814AP\, Netherlands
END:VEVENT
END:VCALENDAR