BEGIN:VCALENDAR
VERSION:2.0
PRODID:-//De Vliegende Olifant - ECPv5.3.1.1//NONSGML v1.0//EN
CALSCALE:GREGORIAN
METHOD:PUBLISH
X-WR-CALNAME:De Vliegende Olifant
X-ORIGINAL-URL:https://devliegendeolifant.nl
X-WR-CALDESC:Evenementen voor De Vliegende Olifant
BEGIN:VTIMEZONE
TZID:Europe/Amsterdam
BEGIN:DAYLIGHT
TZOFFSETFROM:+0100
TZOFFSETTO:+0200
TZNAME:CEST
DTSTART:20250330T010000
END:DAYLIGHT
BEGIN:STANDARD
TZOFFSETFROM:+0200
TZOFFSETTO:+0100
TZNAME:CET
DTSTART:20251026T010000
END:STANDARD
END:VTIMEZONE
BEGIN:VEVENT
DTSTART;TZID=Europe/Amsterdam:20250926T200000
DTEND;TZID=Europe/Amsterdam:20250926T220000
DTSTAMP:20260424T094035
CREATED:20240218T173857Z
LAST-MODIFIED:20250924T075611Z
UID:6790-1758916800-1758924000@devliegendeolifant.nl
SUMMARY:26 september: Film/Docu  'Down to earth' (2015)
DESCRIPTION:We starten het nieuwe inspiratie seizoen met de ‘Down to Earth’ – een docu/ film uit 2015 die in 2016 de filmtheaters vol kreeg.\n\n\nJe ziet het verhaal van een Nederlands gezin dat buiten de gebaande paden gaat om een nieuw perspectief op het leven te vinden. Naar native volken die een verbonden leven leiden – met de natuur\, Moeder Aarde\, met alles wat leeft. Een leven dat meer down to earth is.  Een reis die aanvankelijk 1 jaar bedoeld was\, werd 5 jaar.\n\n“We hebben de aarde niet geërfd van onze ouders\, we lenen het van onze kinderen”\n(Chief Seattle)\n\n\n\n#indigenousknowing #expansionofconsciousness #motherearth #pachamama #devinefeminin\n\nWe spreken na de film – voor degenen die willen – met elkaar na.\n\nDatum: vrijdag 26 september\nTijd: 20.00 – 22.00 uur\nInloop: vanaf 19.40 uur met koffie /thee en lekkers\nIn de Vliegende Olifant\nEntree: 12\,50 euro/ Duotickets en ‘Vrienden van de Olifant: €20\,00/ € 10\,00  voor de koffie/thee/lekkers en de verwarming.
URL:https://devliegendeolifant.nl/event/29-maart-film-docu-avontuur-down-to-earth-2015/
LOCATION:De Vliegende Olifant\, De Wetstraat 24\, Arnhem\, 6814 AP\, Netherlands
END:VEVENT
END:VCALENDAR