BEGIN:VCALENDAR
VERSION:2.0
PRODID:-//De Vliegende Olifant - ECPv5.3.1.1//NONSGML v1.0//EN
CALSCALE:GREGORIAN
METHOD:PUBLISH
X-WR-CALNAME:De Vliegende Olifant
X-ORIGINAL-URL:https://devliegendeolifant.nl
X-WR-CALDESC:Evenementen voor De Vliegende Olifant
BEGIN:VTIMEZONE
TZID:Europe/Amsterdam
BEGIN:DAYLIGHT
TZOFFSETFROM:+0100
TZOFFSETTO:+0200
TZNAME:CEST
DTSTART:20240331T010000
END:DAYLIGHT
BEGIN:STANDARD
TZOFFSETFROM:+0200
TZOFFSETTO:+0100
TZNAME:CET
DTSTART:20241027T010000
END:STANDARD
END:VTIMEZONE
BEGIN:VEVENT
DTSTART;TZID=Europe/Amsterdam:20240915T110000
DTEND;TZID=Europe/Amsterdam:20240915T140000
DTSTAMP:20260425T163339
CREATED:20240908T213312Z
LAST-MODIFIED:20240908T214903Z
UID:7032-1726398000-1726408800@devliegendeolifant.nl
SUMMARY:15 september NIEUW :  Ziels - en Familieopstellingen op Zondag.
DESCRIPTION:Hierbij nodig ik je van harte uit voor de maandelijkse (ongeveer) ‘Systeem Opstellingen op Zondag’. \nJe persoonlijke kracht manifesteren is in feite staan voor wie je bent’ (Taira Seifaddini)  \n  \n  \n  \n  \nafb. Daniel Holeman \n  \nOp deze zondagen gaan we werken met dat wat zich aandient. Lichtvoetig\, ont-dekkend en liefdevol in  een groep van maximaal 10 personen. \nDe data in 2024: \nZondag 15/09 – 13/10 – 17/11 \nTijd: 11.00 – 14.00 \nBijdrage: 45 euro pp. \nOpgave: via info@fysiobowenpraktijkarnhem.nl
URL:https://devliegendeolifant.nl/event/15-september-ziels-en-familieopstellingen-op-zondag/
LOCATION:De Vliegende Olifant\, De Wetstraat 24\, Arnhem\, 6814 AP\, Netherlands
END:VEVENT
END:VCALENDAR