BEGIN:VCALENDAR
VERSION:2.0
PRODID:-//The Flying Elephant - ECPv5.3.1.1//NONSGML v1.0//EN
CALSCALE:GREGORIAN
METHOD:PUBLISH
X-WR-CALNAME:The Flying Elephant
X-ORIGINAL-URL:https://devliegendeolifant.nl/en
X-WR-CALDESC:Events for The Flying Elephant
BEGIN:VTIMEZONE
TZID:Europe/Amsterdam
BEGIN:DAYLIGHT
TZOFFSETFROM:+0100
TZOFFSETTO:+0200
TZNAME:CEST
DTSTART:20260329T010000
END:DAYLIGHT
BEGIN:STANDARD
TZOFFSETFROM:+0200
TZOFFSETTO:+0100
TZNAME:CET
DTSTART:20261025T010000
END:STANDARD
END:VTIMEZONE
BEGIN:VEVENT
DTSTART;TZID=Europe/Amsterdam:20260425T100000
DTEND;TZID=Europe/Amsterdam:20260425T170000
DTSTAMP:20260422T135237
CREATED:20260330T162248Z
LAST-MODIFIED:20260330T162405Z
UID:7587-1777111200-1777136400@devliegendeolifant.nl
SUMMARY:(Nederlands) Zaterdag 25 april: Dagretreat: Unfold to Grow
DESCRIPTION:Sorry\, this entry is only available in Dutch.
URL:https://devliegendeolifant.nl/en/event/zaterdag-25-april-dagretreat-unfold-to-grow/
LOCATION:(Nederlands) De Vliegende Olifant\, De Wetstraat 24\, Arnhem\, 6814 AP\, Netherlands
END:VEVENT
BEGIN:VEVENT
DTSTART;TZID=Europe/Amsterdam:20260508T133000
DTEND;TZID=Europe/Amsterdam:20260508T173000
DTSTAMP:20260422T135237
CREATED:20260313T173720Z
LAST-MODIFIED:20260313T175747Z
UID:7565-1778247000-1778261400@devliegendeolifant.nl
SUMMARY:(Nederlands) Vrijdag 8 mei: Introductieworkshop ZIELS- & FAMILIEOPSTELLINGEN 'I know who I am'.
DESCRIPTION:Sorry\, this entry is only available in Dutch.
URL:https://devliegendeolifant.nl/en/event/vrijdag-8-mei-introductieworkshop-ziels-familieopstellingen-i-know-who-i-am/
LOCATION:(Nederlands) De Vliegende Olifant\, De Wetstraat 24\, Arnhem\, 6814 AP\, Netherlands
END:VEVENT
BEGIN:VEVENT
DTSTART;TZID=Europe/Amsterdam:20260522T100000
DTEND;TZID=Europe/Amsterdam:20260522T123000
DTSTAMP:20260422T135237
CREATED:20260313T172400Z
LAST-MODIFIED:20260313T182652Z
UID:7557-1779444000-1779453000@devliegendeolifant.nl
SUMMARY:(Nederlands) Vrijdagmiddag 22 mei: Vrouweninspiratiecirkel met ziels- en familieopstellingen
DESCRIPTION:Sorry\, this entry is only available in Dutch.
URL:https://devliegendeolifant.nl/en/event/7557/
LOCATION:(Nederlands) De Vliegende Olifant\, De Wetstraat 24\, Arnhem\, 6814 AP\, Netherlands
ORGANIZER;CN="Jeannette%20Uittenbogaard":MAILTO:info@devliegendeolifant.nl
END:VEVENT
BEGIN:VEVENT
DTSTART;TZID=Europe/Amsterdam:20260626T133000
DTEND;TZID=Europe/Amsterdam:20260626T173000
DTSTAMP:20260422T135237
CREATED:20260313T172754Z
LAST-MODIFIED:20260313T182749Z
UID:7561-1782480600-1782495000@devliegendeolifant.nl
SUMMARY:(Nederlands) Vrijdagmiddag 26 juni: Vrouweninspiratiecirkel met ziels- en familieopstellingen
DESCRIPTION:Sorry\, this entry is only available in Dutch.
URL:https://devliegendeolifant.nl/en/event/7561/
LOCATION:(Nederlands) De Vliegende Olifant\, De Wetstraat 24\, Arnhem\, 6814 AP\, Netherlands
ORGANIZER;CN="Jeannette%20Uittenbogaard":MAILTO:info@devliegendeolifant.nl
END:VEVENT
END:VCALENDAR