BEGIN:VCALENDAR
VERSION:2.0
PRODID:-//The Flying Elephant - ECPv5.3.1.1//NONSGML v1.0//EN
CALSCALE:GREGORIAN
METHOD:PUBLISH
X-WR-CALNAME:The Flying Elephant
X-ORIGINAL-URL:https://devliegendeolifant.nl/en
X-WR-CALDESC:Events for The Flying Elephant
BEGIN:VTIMEZONE
TZID:Europe/Amsterdam
BEGIN:DAYLIGHT
TZOFFSETFROM:+0100
TZOFFSETTO:+0200
TZNAME:CEST
DTSTART:20240331T010000
END:DAYLIGHT
BEGIN:STANDARD
TZOFFSETFROM:+0200
TZOFFSETTO:+0100
TZNAME:CET
DTSTART:20241027T010000
END:STANDARD
END:VTIMEZONE
BEGIN:VEVENT
DTSTART;TZID=Europe/Amsterdam:20240706T100000
DTEND;TZID=Europe/Amsterdam:20240706T160000
DTSTAMP:20260425T141831
CREATED:20240624T161448Z
LAST-MODIFIED:20240624T165014Z
UID:6962-1720260000-1720281600@devliegendeolifant.nl
SUMMARY:(Nederlands) 6 juli: Zomerworkshop Ziels- en Familieopstellingen met Jeannette Uittenbogaard
DESCRIPTION:Sorry\, this entry is only available in Dutch.
URL:https://devliegendeolifant.nl/en/event/zomerworkshop-ziels-en-familieopstellingen-met-jeannette-uittenbogaard/
LOCATION:De Vliegende Olifant\, De Wetstraat 24\, Arnhem\, 6814AP\, Netherlands
ORGANIZER;CN="Jeannette%20Uittenbogaard":MAILTO:info@devliegendeolifant.nl
END:VEVENT
END:VCALENDAR