BEGIN:VCALENDAR
VERSION:2.0
PRODID:-//The Flying Elephant - ECPv5.3.1.1//NONSGML v1.0//EN
CALSCALE:GREGORIAN
METHOD:PUBLISH
X-WR-CALNAME:The Flying Elephant
X-ORIGINAL-URL:https://devliegendeolifant.nl/en
X-WR-CALDESC:Events for The Flying Elephant
BEGIN:VTIMEZONE
TZID:Europe/Amsterdam
BEGIN:DAYLIGHT
TZOFFSETFROM:+0100
TZOFFSETTO:+0200
TZNAME:CEST
DTSTART:20250330T010000
END:DAYLIGHT
BEGIN:STANDARD
TZOFFSETFROM:+0200
TZOFFSETTO:+0100
TZNAME:CET
DTSTART:20251026T010000
END:STANDARD
END:VTIMEZONE
BEGIN:VEVENT
DTSTART;TZID=Europe/Amsterdam:20250323T140000
DTEND;TZID=Europe/Amsterdam:20250323T170000
DTSTAMP:20260425T040609
CREATED:20250223T194547Z
LAST-MODIFIED:20250223T194714Z
UID:7217-1742738400-1742749200@devliegendeolifant.nl
SUMMARY:(Nederlands) Zondag 23 maart: Start 'The souls journey' - een traject voor hoogbegaafde\, sensitieve jonge mensen (16-24 jaar) - Kristalkinderen\, GeneratieZ.
DESCRIPTION:Sorry\, this entry is only available in Dutch.
URL:https://devliegendeolifant.nl/en/event/zondag-23-maart-start-the-souls-journey-een-traject-voor-hoogbegaafde-sensitieve-jonge-mensen-16-24-jaar-kristalkinderen-generatiez/
LOCATION:(Nederlands) De Vliegende Olifant\, De Wetstraat 24\, Arnhem\, 6814 AP\, Netherlands
ORGANIZER;CN="Jeannette%20Uittenbogaard":MAILTO:info@devliegendeolifant.nl
END:VEVENT
END:VCALENDAR