BEGIN:VCALENDAR
VERSION:2.0
PRODID:-//The Flying Elephant - ECPv5.3.1.1//NONSGML v1.0//EN
CALSCALE:GREGORIAN
METHOD:PUBLISH
X-WR-CALNAME:The Flying Elephant
X-ORIGINAL-URL:https://devliegendeolifant.nl/en
X-WR-CALDESC:Events for The Flying Elephant
BEGIN:VTIMEZONE
TZID:Europe/Amsterdam
BEGIN:DAYLIGHT
TZOFFSETFROM:+0100
TZOFFSETTO:+0200
TZNAME:CEST
DTSTART:20260329T010000
END:DAYLIGHT
BEGIN:STANDARD
TZOFFSETFROM:+0200
TZOFFSETTO:+0100
TZNAME:CET
DTSTART:20261025T010000
END:STANDARD
END:VTIMEZONE
BEGIN:VEVENT
DTSTART;TZID=Europe/Amsterdam:20260130T200000
DTEND;TZID=Europe/Amsterdam:20260130T220000
DTSTAMP:20260423T123935
CREATED:20250620T203422Z
LAST-MODIFIED:20251128T164828Z
UID:7316-1769803200-1769810400@devliegendeolifant.nl
SUMMARY:(Nederlands) Vrijdagavond: 30 januari 2026  Inspiratie- filmavond 'Wolf's message - Two worlds\, One Heart' Suzanne Giesemann.
DESCRIPTION:Sorry\, this entry is only available in Dutch.
URL:https://devliegendeolifant.nl/en/event/vrijdagavond-4-juli-inspiratie-filmavond-wolfs-message-two-worlds-one-heart-suzanne-giesemann/
LOCATION:(Nederlands) De Vliegende Olifant\, De Wetstraat 24\, Arnhem\, 6814 AP\, Netherlands
END:VEVENT
END:VCALENDAR