BEGIN:VCALENDAR
VERSION:2.0
PRODID:-//The Flying Elephant - ECPv5.3.1.1//NONSGML v1.0//EN
CALSCALE:GREGORIAN
METHOD:PUBLISH
X-WR-CALNAME:The Flying Elephant
X-ORIGINAL-URL:https://devliegendeolifant.nl/en
X-WR-CALDESC:Events for The Flying Elephant
BEGIN:VTIMEZONE
TZID:Europe/Amsterdam
BEGIN:DAYLIGHT
TZOFFSETFROM:+0100
TZOFFSETTO:+0200
TZNAME:CEST
DTSTART:20250330T010000
END:DAYLIGHT
BEGIN:STANDARD
TZOFFSETFROM:+0200
TZOFFSETTO:+0100
TZNAME:CET
DTSTART:20251026T010000
END:STANDARD
END:VTIMEZONE
BEGIN:VEVENT
DTSTART;TZID=Europe/Amsterdam:20251002T093000
DTEND;TZID=Europe/Amsterdam:20251002T110000
DTSTAMP:20260424T053718
CREATED:20250924T144325Z
LAST-MODIFIED:20250929T175337Z
UID:7411-1759397400-1759402800@devliegendeolifant.nl
SUMMARY:(Nederlands) Vanaf donderdag 9 oktober: groepslessen lichaamsgewaarwording & Chineng Qigong
DESCRIPTION:Sorry\, this entry is only available in Dutch.
URL:https://devliegendeolifant.nl/en/event/vanaf-donderdag-oktober-groepslessen-lichaamsgewaarwording-chineng-qigong/
LOCATION:De Vliegende Olifant\, De Wetstraat 24\, Arnhem\, 6814AP\, Netherlands
END:VEVENT
END:VCALENDAR