BEGIN:VCALENDAR
VERSION:2.0
PRODID:-//The Flying Elephant - ECPv5.3.1.1//NONSGML v1.0//EN
CALSCALE:GREGORIAN
METHOD:PUBLISH
X-WR-CALNAME:The Flying Elephant
X-ORIGINAL-URL:https://devliegendeolifant.nl/en
X-WR-CALDESC:Events for The Flying Elephant
BEGIN:VTIMEZONE
TZID:Europe/Amsterdam
BEGIN:DAYLIGHT
TZOFFSETFROM:+0100
TZOFFSETTO:+0200
TZNAME:CEST
DTSTART:20250330T010000
END:DAYLIGHT
BEGIN:STANDARD
TZOFFSETFROM:+0200
TZOFFSETTO:+0100
TZNAME:CET
DTSTART:20251026T010000
END:STANDARD
END:VTIMEZONE
BEGIN:VEVENT
DTSTART;TZID=Europe/Amsterdam:20251107T133000
DTEND;TZID=Europe/Amsterdam:20251107T173000
DTSTAMP:20260423T212022
CREATED:20251001T205751Z
LAST-MODIFIED:20251001T205900Z
UID:7428-1762522200-1762536600@devliegendeolifant.nl
SUMMARY:(Nederlands) 7 november - Vrouweninspiratiecirkel met ziels- en familieopstellingen op vrijdagmiddag
DESCRIPTION:Sorry\, this entry is only available in Dutch.
URL:https://devliegendeolifant.nl/en/event/7-november-vrouweninspiratiecirkel-met-ziels-en-familieopstellingen-op-vrijdagmiddag/
LOCATION:(Nederlands) De Vliegende Olifant\, De Wetstraat 24\, Arnhem\, 6814 AP\, Netherlands
END:VEVENT
END:VCALENDAR