BEGIN:VCALENDAR
VERSION:2.0
PRODID:-//The Flying Elephant - ECPv5.3.1.1//NONSGML v1.0//EN
CALSCALE:GREGORIAN
METHOD:PUBLISH
X-WR-CALNAME:The Flying Elephant
X-ORIGINAL-URL:https://devliegendeolifant.nl/en
X-WR-CALDESC:Events for The Flying Elephant
BEGIN:VTIMEZONE
TZID:Europe/Amsterdam
BEGIN:DAYLIGHT
TZOFFSETFROM:+0100
TZOFFSETTO:+0200
TZNAME:CEST
DTSTART:20240331T010000
END:DAYLIGHT
BEGIN:STANDARD
TZOFFSETFROM:+0200
TZOFFSETTO:+0100
TZNAME:CET
DTSTART:20241027T010000
END:STANDARD
END:VTIMEZONE
BEGIN:VEVENT
DTSTART;TZID=Europe/Amsterdam:20240915T110000
DTEND;TZID=Europe/Amsterdam:20240915T140000
DTSTAMP:20260425T143303
CREATED:20240908T213312Z
LAST-MODIFIED:20240908T214903Z
UID:7032-1726398000-1726408800@devliegendeolifant.nl
SUMMARY:(Nederlands) 15 september NIEUW :  Ziels - en Familieopstellingen op Zondag.
DESCRIPTION:Sorry\, this entry is only available in Dutch.
URL:https://devliegendeolifant.nl/en/event/15-september-ziels-en-familieopstellingen-op-zondag/
LOCATION:(Nederlands) De Vliegende Olifant\, De Wetstraat 24\, Arnhem\, 6814 AP\, Netherlands
END:VEVENT
END:VCALENDAR